BEGIN:VCALENDAR
VERSION:2.0
PRODID:-//Idaho Tree Farm Program - ECPv4.9.9//NONSGML v1.0//EN
CALSCALE:GREGORIAN
METHOD:PUBLISH
X-WR-CALNAME:Idaho Tree Farm Program
X-ORIGINAL-URL:https://idahotreefarm.org
X-WR-CALDESC:Events for Idaho Tree Farm Program
BEGIN:VTIMEZONE
TZID:America/Los_Angeles
BEGIN:DAYLIGHT
TZOFFSETFROM:-0800
TZOFFSETTO:-0700
TZNAME:PDT
DTSTART:20130310T100000
END:DAYLIGHT
BEGIN:STANDARD
TZOFFSETFROM:-0700
TZOFFSETTO:-0800
TZNAME:PST
DTSTART:20131103T090000
END:STANDARD
END:VTIMEZONE
BEGIN:VEVENT
DTSTART;TZID=America/Los_Angeles:20130325T080000
DTEND;TZID=America/Los_Angeles:20130327T170000
DTSTAMP:20260420T091138
CREATED:20121025T200434Z
LAST-MODIFIED:20121210T233639Z
UID:230-1364198400-1364403600@idahotreefarm.org
SUMMARY:Family Forestland Owners and Managers Conference
DESCRIPTION:March 2013 – Family Forestland Owners and Managers Conference\, Moscow\, ID. \nFor more information\, www.idahoforestowners.org \n  \n  \n
URL:https://idahotreefarm.org/event/family-forestland-owners-and-managers-conference/
LOCATION:University Inn Best Western\, Moscow\, ID\, 83843\, United States
END:VEVENT
END:VCALENDAR